BEGIN:VCALENDAR
VERSION:2.0
CALSCALE:GREGORIAN
PRODID:adamgibbons/ics
METHOD:PUBLISH
X-PUBLISHED-TTL:PT1H
BEGIN:VEVENT
UID:136@bootblack.events
SUMMARY:Bootblacking @ Leather Social Limburg
DTSTAMP:20260424T165351Z
DTSTART:20251122T130000Z
DTEND:20251122T180000Z
URL:https://bootblack.events/event/bootblacking-leather-social-limburg
LOCATION:Nero Business Center & City Café - Kapellerpoort 1\, 6041 HZ Roerm
	ond
STATUS:CONFIRMED
CATEGORIES:
END:VEVENT
END:VCALENDAR
